BEGIN:VCALENDAR
VERSION:2.0
PRODID:-//KfK Münster - ECPv6.15.20//NONSGML v1.0//EN
CALSCALE:GREGORIAN
METHOD:PUBLISH
X-WR-CALNAME:KfK Münster
X-ORIGINAL-URL:https://kfk-muenster.de
X-WR-CALDESC:Veranstaltungen für KfK Münster
REFRESH-INTERVAL;VALUE=DURATION:PT1H
X-Robots-Tag:noindex
X-PUBLISHED-TTL:PT1H
BEGIN:VTIMEZONE
TZID:Europe/Berlin
BEGIN:DAYLIGHT
TZOFFSETFROM:+0100
TZOFFSETTO:+0200
TZNAME:CEST
DTSTART:20240331T010000
END:DAYLIGHT
BEGIN:STANDARD
TZOFFSETFROM:+0200
TZOFFSETTO:+0100
TZNAME:CET
DTSTART:20241027T010000
END:STANDARD
BEGIN:DAYLIGHT
TZOFFSETFROM:+0100
TZOFFSETTO:+0200
TZNAME:CEST
DTSTART:20250330T010000
END:DAYLIGHT
BEGIN:STANDARD
TZOFFSETFROM:+0200
TZOFFSETTO:+0100
TZNAME:CET
DTSTART:20251026T010000
END:STANDARD
BEGIN:DAYLIGHT
TZOFFSETFROM:+0100
TZOFFSETTO:+0200
TZNAME:CEST
DTSTART:20260329T010000
END:DAYLIGHT
BEGIN:STANDARD
TZOFFSETFROM:+0200
TZOFFSETTO:+0100
TZNAME:CET
DTSTART:20261025T010000
END:STANDARD
END:VTIMEZONE
BEGIN:VEVENT
DTSTART;TZID=Europe/Berlin:20251025T093000
DTEND;TZID=Europe/Berlin:20251025T190000
DTSTAMP:20260421T104441
CREATED:20251011T074904Z
LAST-MODIFIED:20251011T080759Z
UID:10001441-1761384600-1761418800@kfk-muenster.de
SUMMARY:Hallenmeisterschaft Doublette QT
DESCRIPTION:
URL:https://kfk-muenster.de/event/hallenmeisterschaft-doublette-qt-3/
LOCATION:Boulehalle Aachen\, Raerenerstrasse 59\, Aachen\, NRW\, 52076\, Germany
CATEGORIES:BPV_NRW,Meisterschaften
ATTACH;FMTTYPE=image/png:https://kfk-muenster.de/wp-content/uploads/2025/04/BPV_NRW_LOGO_520x245.png
END:VEVENT
BEGIN:VEVENT
DTSTART;TZID=Europe/Berlin:20251025T140000
DTEND;TZID=Europe/Berlin:20251025T170000
DTSTAMP:20260421T104441
CREATED:20250107T083242Z
LAST-MODIFIED:20251230T080353Z
UID:10001334-1761400800-1761411600@kfk-muenster.de
SUMMARY:Benefiz-Super-Mêlée
DESCRIPTION:Ein fester Termin\, das ganze Jahr über\, ist das Benefiz-Super-Mêlée \nWir spielen drei Runden Super-Mêlée. \nStartgeld sind 3 Euro pro Kopf\, davon geht einer (Benefiz!) an einen guten Zweck\, und der Rest wird an die Bestplatzierten ausgeschüttet. \n  \nFreunde des Pétanque-Spiels\, ebenso Neueinsteiger wie Fortgeschrittene\, sind jederzeit willkommen. \nAllez les Boules! \n  \nPS: Gerne stellt der KfK-Münster Leihkugeln zu Verfügung.
URL:https://kfk-muenster.de/event/benefiz-super-melee-2-2-2/2025-10-25/
LOCATION:Boulodrome auf der Sentruper Höhe\, Theo-Breider-Weg\, Münster\, NRW\, 48149
CATEGORIES:Benefiz-Super-Mêlée,Boulodrome Sentruper Höhe,Breitensport
ATTACH;FMTTYPE=image/png:https://kfk-muenster.de/wp-content/uploads/2024/02/kalender_Benefiz-Super-Melee.png
ORGANIZER;CN="Benefiz trifft P%C3%A9tanque":MAILTO:benefiz_trifft_petanque@kfk-muenster.de
GEO:51.951680043677;7.5957984138246
X-APPLE-STRUCTURED-LOCATION;VALUE=URI;X-ADDRESS=Boulodrome auf der Sentruper Höhe Theo-Breider-Weg Münster NRW 48149;X-APPLE-RADIUS=500;X-TITLE=Theo-Breider-Weg:geo:7.5957984138246,51.951680043677
END:VEVENT
END:VCALENDAR