BEGIN:VCALENDAR
VERSION:2.0
PRODID:-//KfK Münster - ECPv6.15.20//NONSGML v1.0//EN
CALSCALE:GREGORIAN
METHOD:PUBLISH
X-WR-CALNAME:KfK Münster
X-ORIGINAL-URL:https://kfk-muenster.de
X-WR-CALDESC:Veranstaltungen für KfK Münster
REFRESH-INTERVAL;VALUE=DURATION:PT1H
X-Robots-Tag:noindex
X-PUBLISHED-TTL:PT1H
BEGIN:VTIMEZONE
TZID:Europe/Berlin
BEGIN:DAYLIGHT
TZOFFSETFROM:+0100
TZOFFSETTO:+0200
TZNAME:CEST
DTSTART:20250330T010000
END:DAYLIGHT
BEGIN:STANDARD
TZOFFSETFROM:+0200
TZOFFSETTO:+0100
TZNAME:CET
DTSTART:20251026T010000
END:STANDARD
BEGIN:DAYLIGHT
TZOFFSETFROM:+0100
TZOFFSETTO:+0200
TZNAME:CEST
DTSTART:20260329T010000
END:DAYLIGHT
BEGIN:STANDARD
TZOFFSETFROM:+0200
TZOFFSETTO:+0100
TZNAME:CET
DTSTART:20261025T010000
END:STANDARD
BEGIN:DAYLIGHT
TZOFFSETFROM:+0100
TZOFFSETTO:+0200
TZNAME:CEST
DTSTART:20270328T010000
END:DAYLIGHT
BEGIN:STANDARD
TZOFFSETFROM:+0200
TZOFFSETTO:+0100
TZNAME:CET
DTSTART:20271031T010000
END:STANDARD
END:VTIMEZONE
BEGIN:VEVENT
DTSTART;TZID=Europe/Berlin:20260516T093000
DTEND;TZID=Europe/Berlin:20260516T200000
DTSTAMP:20260423T121148
CREATED:20251014T181428Z
LAST-MODIFIED:20251014T181428Z
UID:10001468-1778923800-1778961600@kfk-muenster.de
SUMMARY:Meisterschaft Triplette DM
DESCRIPTION:
URL:https://kfk-muenster.de/event/meisterschaft-triplette-dm/
CATEGORIES:Meisterschaften
ATTACH;FMTTYPE=image/jpeg:https://kfk-muenster.de/wp-content/uploads/2024/02/dpv-logo-small.jpeg
END:VEVENT
BEGIN:VEVENT
DTSTART;TZID=Europe/Berlin:20260613T093000
DTEND;TZID=Europe/Berlin:20260614T200000
DTSTAMP:20260423T121148
CREATED:20251014T173023Z
LAST-MODIFIED:20251014T173526Z
UID:10001466-1781343000-1781467200@kfk-muenster.de
SUMMARY:Meisterschaft Doublette Mixte DM
DESCRIPTION:
URL:https://kfk-muenster.de/event/meisterschaft-doublette-mixte-dm/
CATEGORIES:Meisterschaften
ATTACH;FMTTYPE=image/jpeg:https://kfk-muenster.de/wp-content/uploads/2024/02/dpv-logo-small.jpeg
END:VEVENT
BEGIN:VEVENT
DTSTART;TZID=Europe/Berlin:20260718T093000
DTEND;TZID=Europe/Berlin:20260719T200000
DTSTAMP:20260423T121148
CREATED:20251014T181234Z
LAST-MODIFIED:20251014T181235Z
UID:10001467-1784367000-1784491200@kfk-muenster.de
SUMMARY:Meisterschaft Tireur Frauen DM
DESCRIPTION:
URL:https://kfk-muenster.de/event/meisterschaft-tireur-frauen-dm/
CATEGORIES:Meisterschaften
ATTACH;FMTTYPE=image/jpeg:https://kfk-muenster.de/wp-content/uploads/2024/02/dpv-logo-small.jpeg
END:VEVENT
BEGIN:VEVENT
DTSTART;TZID=Europe/Berlin:20260718T093000
DTEND;TZID=Europe/Berlin:20260719T200000
DTSTAMP:20260423T121148
CREATED:20251019T064146Z
LAST-MODIFIED:20251019T064146Z
UID:10001472-1784367000-1784491200@kfk-muenster.de
SUMMARY:Meisterschaft Triplette Frauen DM
DESCRIPTION:
URL:https://kfk-muenster.de/event/meisterschaft-triplette-frauen-dm/
CATEGORIES:Meisterschaften
ATTACH;FMTTYPE=image/jpeg:https://kfk-muenster.de/wp-content/uploads/2024/02/dpv-logo-small.jpeg
END:VEVENT
BEGIN:VEVENT
DTSTART;TZID=Europe/Berlin:20260912T093000
DTEND;TZID=Europe/Berlin:20260913T200000
DTSTAMP:20260423T121148
CREATED:20251019T072827Z
LAST-MODIFIED:20251019T072827Z
UID:10001479-1789205400-1789329600@kfk-muenster.de
SUMMARY:Meisterschaft Triplette Veterans (55+) DM
DESCRIPTION:
URL:https://kfk-muenster.de/event/meisterschaft-triplette-veterans-55-dm/
CATEGORIES:Meisterschaften
ATTACH;FMTTYPE=image/jpeg:https://kfk-muenster.de/wp-content/uploads/2024/02/dpv-logo-small.jpeg
END:VEVENT
BEGIN:VEVENT
DTSTART;TZID=Europe/Berlin:20260919T093000
DTEND;TZID=Europe/Berlin:20260920T200000
DTSTAMP:20260423T121148
CREATED:20251019T074331Z
LAST-MODIFIED:20251019T074331Z
UID:10001483-1789810200-1789934400@kfk-muenster.de
SUMMARY:Meisterschaft Tête-à-tête / Tireur DM
DESCRIPTION:
URL:https://kfk-muenster.de/event/meisterschaft-tete-a-tete-tireur-dm/
CATEGORIES:Meisterschaften
ATTACH;FMTTYPE=image/jpeg:https://kfk-muenster.de/wp-content/uploads/2024/02/dpv-logo-small.jpeg
END:VEVENT
END:VCALENDAR