BEGIN:VCALENDAR
VERSION:2.0
PRODID:-//KfK Münster - ECPv6.15.20//NONSGML v1.0//EN
CALSCALE:GREGORIAN
METHOD:PUBLISH
X-ORIGINAL-URL:https://kfk-muenster.de
X-WR-CALDESC:Veranstaltungen für KfK Münster
REFRESH-INTERVAL;VALUE=DURATION:PT1H
X-Robots-Tag:noindex
X-PUBLISHED-TTL:PT1H
BEGIN:VTIMEZONE
TZID:Europe/Berlin
BEGIN:DAYLIGHT
TZOFFSETFROM:+0100
TZOFFSETTO:+0200
TZNAME:CEST
DTSTART:20240331T010000
END:DAYLIGHT
BEGIN:STANDARD
TZOFFSETFROM:+0200
TZOFFSETTO:+0100
TZNAME:CET
DTSTART:20241027T010000
END:STANDARD
BEGIN:DAYLIGHT
TZOFFSETFROM:+0100
TZOFFSETTO:+0200
TZNAME:CEST
DTSTART:20250330T010000
END:DAYLIGHT
BEGIN:STANDARD
TZOFFSETFROM:+0200
TZOFFSETTO:+0100
TZNAME:CET
DTSTART:20251026T010000
END:STANDARD
BEGIN:DAYLIGHT
TZOFFSETFROM:+0100
TZOFFSETTO:+0200
TZNAME:CEST
DTSTART:20260329T010000
END:DAYLIGHT
BEGIN:STANDARD
TZOFFSETFROM:+0200
TZOFFSETTO:+0100
TZNAME:CET
DTSTART:20261025T010000
END:STANDARD
BEGIN:DAYLIGHT
TZOFFSETFROM:+0100
TZOFFSETTO:+0200
TZNAME:CEST
DTSTART:20270328T010000
END:DAYLIGHT
BEGIN:STANDARD
TZOFFSETFROM:+0200
TZOFFSETTO:+0100
TZNAME:CET
DTSTART:20271031T010000
END:STANDARD
END:VTIMEZONE
BEGIN:VEVENT
DTSTART;VALUE=DATE:20260417
DTEND;VALUE=DATE:20260418
DTSTAMP:20260422T151346
CREATED:20251013T185842Z
LAST-MODIFIED:20251014T165338Z
UID:10001458-1776384000-1776470399@kfk-muenster.de
SUMMARY:Anmeldeschluss Meisterschaft Triplette
DESCRIPTION:
URL:https://kfk-muenster.de/event/anmeldeschluss-meisterschaft-triplette-qt/
CATEGORIES:Meisterschaften
ATTACH;FMTTYPE=image/png:https://kfk-muenster.de/wp-content/uploads/2025/04/BPV_NRW_LOGO_520x245.png
ORGANIZER;CN="Klub f%C3%BCr Kugelsport":MAILTO:info@kfk-muenster.de
END:VEVENT
BEGIN:VEVENT
DTSTART;TZID=Europe/Berlin:20260407T153000
DTEND;TZID=Europe/Berlin:20260407T170000
DTSTAMP:20260422T151346
CREATED:20251215T073410Z
LAST-MODIFIED:20260331T185700Z
UID:10001624-1775575800-1775581200@kfk-muenster.de
SUMMARY:Die neuen und die alten Hasen
DESCRIPTION:Wir schnuppern KfK-Luft! \nEin Übungsangebot zur Technik und Taktik des Boulesports für Vereinsangehörige und all diejenigen\, die Interesse haben\, unseren Klub für Kugelsport kennenzulernen. \nOb blutige Anfängerin oder altgedienter Profi – alle sind herzlich willkommen!
URL:https://kfk-muenster.de/event/die-neuen-und-die-alten-hasen/2026-04-07/
LOCATION:Boulodrome auf der Sentruper Höhe\, Theo-Breider-Weg\, Münster\, NRW\, 48149
CATEGORIES:Boulodrome Sentruper Höhe,Breitensport,KfK,KfK Training
ATTACH;FMTTYPE=image/png:https://kfk-muenster.de/wp-content/uploads/2024/06/Mittwochsmischung.png.png
ORGANIZER;CN="Klub f%C3%BCr Kugelsport":MAILTO:info@kfk-muenster.de
GEO:51.951680043677;7.5957984138246
X-APPLE-STRUCTURED-LOCATION;VALUE=URI;X-ADDRESS=Boulodrome auf der Sentruper Höhe Theo-Breider-Weg Münster NRW 48149;X-APPLE-RADIUS=500;X-TITLE=Theo-Breider-Weg:geo:7.5957984138246,51.951680043677
END:VEVENT
BEGIN:VEVENT
DTSTART;TZID=Europe/Berlin:20260331T153000
DTEND;TZID=Europe/Berlin:20260331T170000
DTSTAMP:20260422T151346
CREATED:20251215T073410Z
LAST-MODIFIED:20260331T185700Z
UID:10001623-1774971000-1774976400@kfk-muenster.de
SUMMARY:Die neuen und die alten Hasen
DESCRIPTION:Wir schnuppern KfK-Luft! \nEin Übungsangebot zur Technik und Taktik des Boulesports für Vereinsangehörige und all diejenigen\, die Interesse haben\, unseren Klub für Kugelsport kennenzulernen. \nOb blutige Anfängerin oder altgedienter Profi – alle sind herzlich willkommen!
URL:https://kfk-muenster.de/event/die-neuen-und-die-alten-hasen/2026-03-31/
LOCATION:Boulodrome auf der Sentruper Höhe\, Theo-Breider-Weg\, Münster\, NRW\, 48149
CATEGORIES:Boulodrome Sentruper Höhe,Breitensport,KfK,KfK Training
ATTACH;FMTTYPE=image/png:https://kfk-muenster.de/wp-content/uploads/2024/06/Mittwochsmischung.png.png
ORGANIZER;CN="Klub f%C3%BCr Kugelsport":MAILTO:info@kfk-muenster.de
GEO:51.951680043677;7.5957984138246
X-APPLE-STRUCTURED-LOCATION;VALUE=URI;X-ADDRESS=Boulodrome auf der Sentruper Höhe Theo-Breider-Weg Münster NRW 48149;X-APPLE-RADIUS=500;X-TITLE=Theo-Breider-Weg:geo:7.5957984138246,51.951680043677
END:VEVENT
BEGIN:VEVENT
DTSTART;TZID=Europe/Berlin:20260326T190000
DTEND;TZID=Europe/Berlin:20260326T210000
DTSTAMP:20260422T151346
CREATED:20251213T092744Z
LAST-MODIFIED:20260305T123813Z
UID:10001505-1774551600-1774558800@kfk-muenster.de
SUMMARY:KfK Mitgliederversammlung 2026
DESCRIPTION:
URL:https://kfk-muenster.de/event/kfk-mitgliederversammlung-2026/
LOCATION:Gaststätte Pröhlken\, Hörsterstraße 23\, Münster\, NRW\, 48143\, Germany
CATEGORIES:KfK
ATTACH;FMTTYPE=image/png:https://kfk-muenster.de/wp-content/uploads/2024/12/Mitgliederversammlung.png.png
ORGANIZER;CN="Klub f%C3%BCr Kugelsport":MAILTO:info@kfk-muenster.de
END:VEVENT
BEGIN:VEVENT
DTSTART;TZID=Europe/Berlin:20260322T130000
DTEND;TZID=Europe/Berlin:20260322T160000
DTSTAMP:20260422T151346
CREATED:20260102T100554Z
LAST-MODIFIED:20260320T094208Z
UID:10001560-1774184400-1774195200@kfk-muenster.de
SUMMARY:Ankugeln 2026
DESCRIPTION:Wir freuen uns\, dass die ganz dicken Jacken und Handwärmer nun zuhause bleiben können\,  und starten mit einer bunt gemischten Turniervariante gemeinsam in die neue Saison. \n\n\n\n3 Runden Super-Mêlée\n45 Min. + 1 Aufnahme\n\nAnmeldung:
URL:https://kfk-muenster.de/event/ankugeln-2026/
LOCATION:Boulodrome auf der Sentruper Höhe\, Theo-Breider-Weg\, Münster\, NRW\, 48149
CATEGORIES:Boulodrome Sentruper Höhe,Breitensport,KfK
ATTACH;FMTTYPE=image/png:https://kfk-muenster.de/wp-content/uploads/2026/01/tribe-event-placeholder-image.png
ORGANIZER;CN="Klub f%C3%BCr Kugelsport":MAILTO:info@kfk-muenster.de
GEO:51.951680043677;7.5957984138246
X-APPLE-STRUCTURED-LOCATION;VALUE=URI;X-ADDRESS=Boulodrome auf der Sentruper Höhe Theo-Breider-Weg Münster NRW 48149;X-APPLE-RADIUS=500;X-TITLE=Theo-Breider-Weg:geo:7.5957984138246,51.951680043677
END:VEVENT
BEGIN:VEVENT
DTSTART;TZID=Europe/Berlin:20260320T180000
DTEND;TZID=Europe/Berlin:20260320T213000
DTSTAMP:20260422T151346
CREATED:20260222T195412Z
LAST-MODIFIED:20260222T195412Z
UID:10001566-1774029600-1774042200@kfk-muenster.de
SUMMARY:Winter-Boule 25/26
DESCRIPTION:3 Runden Supermêlée\n45 Minuten Zeitlimit plus einer Aufnahme\nAusschüttung nach Tageswertung\n\nDie maximale Teilnehmerzahl pro Spieltag liegt bei 18 Personen. \n\nAnmeldezeitraum: Samstag 0:00 Uhr bis Dienstag 12:00 Uhr vor dem Turnier. \nBitte bringt die 4 Euro Startgeld möglichst passend mit! \nLink zur Anmeldung
URL:https://kfk-muenster.de/event/winter-boule-25-26-2-2-3-8-4/
LOCATION:Boulezelt Gremmendorf\, Am Hohen Ufer 111\, Münster\, NRW\, 48167\, Germany
CATEGORIES:Breitensport,Winter-Boule
ATTACH;FMTTYPE=image/png:https://kfk-muenster.de/wp-content/uploads/2024/10/Winterboule-kfk.png.png
ORGANIZER;CN="Klub f%C3%BCr Kugelsport":MAILTO:info@kfk-muenster.de
END:VEVENT
BEGIN:VEVENT
DTSTART;TZID=Europe/Berlin:20260313T180000
DTEND;TZID=Europe/Berlin:20260313T213000
DTSTAMP:20260422T151346
CREATED:20260222T195132Z
LAST-MODIFIED:20260222T195132Z
UID:10001565-1773424800-1773437400@kfk-muenster.de
SUMMARY:Winter-Boule 25/26
DESCRIPTION:3 Runden Supermêlée\n45 Minuten Zeitlimit plus einer Aufnahme\nAusschüttung nach Tageswertung\n\nDie maximale Teilnehmerzahl pro Spieltag liegt bei 18 Personen. \n\nAnmeldezeitraum: Samstag 0:00 Uhr bis Dienstag 12:00 Uhr vor dem Turnier. \nBitte bringt die 4 Euro Startgeld möglichst passend mit! \nLink zur Anmeldung
URL:https://kfk-muenster.de/event/winter-boule-25-26-2-2-3-8-3/
LOCATION:Boulezelt Gremmendorf\, Am Hohen Ufer 111\, Münster\, NRW\, 48167\, Germany
CATEGORIES:Breitensport,Winter-Boule
ATTACH;FMTTYPE=image/png:https://kfk-muenster.de/wp-content/uploads/2024/10/Winterboule-kfk.png.png
ORGANIZER;CN="Klub f%C3%BCr Kugelsport":MAILTO:info@kfk-muenster.de
END:VEVENT
BEGIN:VEVENT
DTSTART;TZID=Europe/Berlin:20260306T180000
DTEND;TZID=Europe/Berlin:20260306T213000
DTSTAMP:20260422T151346
CREATED:20260222T194507Z
LAST-MODIFIED:20260222T194748Z
UID:10001564-1772820000-1772832600@kfk-muenster.de
SUMMARY:Winter-Boule 25/26
DESCRIPTION:3 Runden Supermêlée\n45 Minuten Zeitlimit plus einer Aufnahme\nAusschüttung nach Tageswertung\n\nDie maximale Teilnehmerzahl pro Spieltag liegt bei 18 Personen. \n\nAnmeldezeitraum: Samstag 0:00 Uhr bis Dienstag 12:00 Uhr vor dem Turnier. \nBitte bringt die 4 Euro Startgeld möglichst passend mit! \nLink zur Anmeldung
URL:https://kfk-muenster.de/event/winter-boule-25-26-2-2-3-8-2/
LOCATION:Boulezelt Gremmendorf\, Am Hohen Ufer 111\, Münster\, NRW\, 48167\, Germany
CATEGORIES:Breitensport,Winter-Boule
ATTACH;FMTTYPE=image/png:https://kfk-muenster.de/wp-content/uploads/2024/10/Winterboule-kfk.png.png
ORGANIZER;CN="Klub f%C3%BCr Kugelsport":MAILTO:info@kfk-muenster.de
END:VEVENT
BEGIN:VEVENT
DTSTART;TZID=Europe/Berlin:20260222T110000
DTEND;TZID=Europe/Berlin:20260222T130000
DTSTAMP:20260422T151346
CREATED:20251215T073410Z
LAST-MODIFIED:20260331T185700Z
UID:10001563-1771758000-1771765200@kfk-muenster.de
SUMMARY:Die neuen und die alten Hasen
DESCRIPTION:Wir schnuppern KfK-Luft! \nEin Übungsangebot zur Technik und Taktik des Boulesports für Vereinsangehörige und all diejenigen\, die Interesse haben\, unseren Klub für Kugelsport kennenzulernen. \nOb blutige Anfängerin oder altgedienter Profi – alle sind herzlich willkommen!
URL:https://kfk-muenster.de/event/die-neuen-und-die-alten-hasen/2026-02-22/
LOCATION:Boulodrome auf der Sentruper Höhe\, Theo-Breider-Weg\, Münster\, NRW\, 48149
CATEGORIES:Boulodrome Sentruper Höhe,Breitensport,KfK,KfK Training
ATTACH;FMTTYPE=image/png:https://kfk-muenster.de/wp-content/uploads/2024/06/Mittwochsmischung.png.png
ORGANIZER;CN="Klub f%C3%BCr Kugelsport":MAILTO:info@kfk-muenster.de
GEO:51.951680043677;7.5957984138246
X-APPLE-STRUCTURED-LOCATION;VALUE=URI;X-ADDRESS=Boulodrome auf der Sentruper Höhe Theo-Breider-Weg Münster NRW 48149;X-APPLE-RADIUS=500;X-TITLE=Theo-Breider-Weg:geo:7.5957984138246,51.951680043677
END:VEVENT
BEGIN:VEVENT
DTSTART;TZID=Europe/Berlin:20260220T180000
DTEND;TZID=Europe/Berlin:20260220T210000
DTSTAMP:20260422T151346
CREATED:20251115T112659Z
LAST-MODIFIED:20260222T194114Z
UID:10001501-1771610400-1771621200@kfk-muenster.de
SUMMARY:Winter-Boule 25/26
DESCRIPTION:3 Runden Supermêlée\n45 Minuten Zeitlimit plus einer Aufnahme\nAusschüttung nach Tageswertung\n\nDie maximale Teilnehmerzahl pro Spieltag liegt bei 18 Personen. \n\nAnmeldezeitraum: Samstag 0:00 Uhr bis Dienstag 12:00 Uhr vor dem Turnier. \nBitte bringt die 4 Euro Startgeld möglichst passend mit! \nLink zur Anmeldung
URL:https://kfk-muenster.de/event/winter-boule-25-26-2-2-3-8/
LOCATION:Boulezelt Gremmendorf\, Am Hohen Ufer 111\, Münster\, NRW\, 48167\, Germany
CATEGORIES:Breitensport,Winter-Boule
ATTACH;FMTTYPE=image/png:https://kfk-muenster.de/wp-content/uploads/2024/10/Winterboule-kfk.png.png
ORGANIZER;CN="Klub f%C3%BCr Kugelsport":MAILTO:info@kfk-muenster.de
END:VEVENT
BEGIN:VEVENT
DTSTART;TZID=Europe/Berlin:20260213T180000
DTEND;TZID=Europe/Berlin:20260213T210000
DTSTAMP:20260422T151346
CREATED:20251115T112333Z
LAST-MODIFIED:20251225T132732Z
UID:10001500-1771005600-1771016400@kfk-muenster.de
SUMMARY:Winter-Boule 25/26
DESCRIPTION:3 Runden Supermêlée\n45 Minuten Zeitlimit plus einer Aufnahme\nAusschüttung nach Tageswertung\n\nDie maximale Teilnehmerzahl pro Spieltag liegt bei 18 Personen. \n\nAnmeldezeitraum: Samstag 0:00 Uhr bis Dienstag 12:00 Uhr vor dem Turnier. \nBitte bringt die 4 Euro Startgeld möglichst passend mit! \nLink zur Anmeldung
URL:https://kfk-muenster.de/event/winter-boule-25-26-2-2-3-7/
LOCATION:Boulezelt Gremmendorf\, Am Hohen Ufer 111\, Münster\, NRW\, 48167\, Germany
CATEGORIES:Breitensport,Winter-Boule
ATTACH;FMTTYPE=image/png:https://kfk-muenster.de/wp-content/uploads/2024/10/Winterboule-kfk.png.png
ORGANIZER;CN="Klub f%C3%BCr Kugelsport":MAILTO:info@kfk-muenster.de
END:VEVENT
BEGIN:VEVENT
DTSTART;TZID=Europe/Berlin:20260206T180000
DTEND;TZID=Europe/Berlin:20260206T210000
DTSTAMP:20260422T151346
CREATED:20251115T112032Z
LAST-MODIFIED:20251225T132444Z
UID:10001499-1770400800-1770411600@kfk-muenster.de
SUMMARY:Winter-Boule 25/26
DESCRIPTION:3 Runden Supermêlée\n45 Minuten Zeitlimit plus einer Aufnahme\nAusschüttung nach Tageswertung\n\nDie maximale Teilnehmerzahl pro Spieltag liegt bei 18 Personen. \n\nAnmeldezeitraum: Samstag 0:00 Uhr bis Dienstag 12:00 Uhr vor dem Turnier. \nBitte bringt die 4 Euro Startgeld möglichst passend mit! \nLink zur Anmeldung
URL:https://kfk-muenster.de/event/winter-boule-25-26-2-2-3-6/
LOCATION:Boulezelt Gremmendorf\, Am Hohen Ufer 111\, Münster\, NRW\, 48167\, Germany
CATEGORIES:Breitensport,Winter-Boule
ATTACH;FMTTYPE=image/png:https://kfk-muenster.de/wp-content/uploads/2024/10/Winterboule-kfk.png.png
ORGANIZER;CN="Klub f%C3%BCr Kugelsport":MAILTO:info@kfk-muenster.de
END:VEVENT
BEGIN:VEVENT
DTSTART;TZID=Europe/Berlin:20260205T183000
DTEND;TZID=Europe/Berlin:20260205T220000
DTSTAMP:20260422T151346
CREATED:20251213T091922Z
LAST-MODIFIED:20260123T080053Z
UID:10001504-1770316200-1770328800@kfk-muenster.de
SUMMARY:KfK Grünkohlessen 2026
DESCRIPTION:
URL:https://kfk-muenster.de/event/kfk-gruenkohlessen-2026/
LOCATION:Gaststätte Pröhlken\, Hörsterstraße 23\, Münster\, NRW\, 48143\, Germany
CATEGORIES:KfK
ATTACH;FMTTYPE=image/png:https://kfk-muenster.de/wp-content/uploads/2024/12/Gruenkohlessen.png.png
ORGANIZER;CN="Klub f%C3%BCr Kugelsport":MAILTO:info@kfk-muenster.de
END:VEVENT
BEGIN:VEVENT
DTSTART;TZID=Europe/Berlin:20260123T180000
DTEND;TZID=Europe/Berlin:20260123T210000
DTSTAMP:20260422T151346
CREATED:20251115T111318Z
LAST-MODIFIED:20251225T130552Z
UID:10001498-1769191200-1769202000@kfk-muenster.de
SUMMARY:Winter-Boule 25/26
DESCRIPTION:3 Runden Supermêlée\n45 Minuten Zeitlimit plus einer Aufnahme\nAusschüttung nach Tageswertung\n\nDie maximale Teilnehmerzahl pro Spieltag liegt bei 18 Personen. \n\nAnmeldezeitraum: Samstag 0:00 Uhr bis Dienstag 12:00 Uhr vor dem Turnier. \nBitte bringt die 4 Euro Startgeld möglichst passend mit! \nLink zur Anmeldung
URL:https://kfk-muenster.de/event/winter-boule-25-26-2-2-3-5/
LOCATION:Boulezelt Gremmendorf\, Am Hohen Ufer 111\, Münster\, NRW\, 48167\, Germany
CATEGORIES:Breitensport,Winter-Boule
ATTACH;FMTTYPE=image/png:https://kfk-muenster.de/wp-content/uploads/2024/10/Winterboule-kfk.png.png
ORGANIZER;CN="Klub f%C3%BCr Kugelsport":MAILTO:info@kfk-muenster.de
END:VEVENT
BEGIN:VEVENT
DTSTART;TZID=Europe/Berlin:20260116T180000
DTEND;TZID=Europe/Berlin:20260116T210000
DTSTAMP:20260422T151346
CREATED:20251115T110928Z
LAST-MODIFIED:20251225T130227Z
UID:10001497-1768586400-1768597200@kfk-muenster.de
SUMMARY:Winter-Boule 25/26
DESCRIPTION:3 Runden Supermêlée\n45 Minuten Zeitlimit plus einer Aufnahme\nAusschüttung nachTageswertung\n\nDie maximale Teilnehmerzahl pro Spieltag liegt bei 18 Personen. \n\nAnmeldezeitraum: Samstag 0:00 Uhr bis Dienstag 12:00 Uhr vor dem Turnier. \nBitte bringt die 4 Euro Startgeld möglichst passend mit! \nLink zur Anmeldung
URL:https://kfk-muenster.de/event/winter-boule-25-26-2-2-3-4/
LOCATION:Boulezelt Gremmendorf\, Am Hohen Ufer 111\, Münster\, NRW\, 48167\, Germany
CATEGORIES:Breitensport,Winter-Boule
ATTACH;FMTTYPE=image/png:https://kfk-muenster.de/wp-content/uploads/2024/10/Winterboule-kfk.png.png
ORGANIZER;CN="Klub f%C3%BCr Kugelsport":MAILTO:info@kfk-muenster.de
END:VEVENT
BEGIN:VEVENT
DTSTART;TZID=Europe/Berlin:20260115T173000
DTEND;TZID=Europe/Berlin:20260115T210000
DTSTAMP:20260422T151346
CREATED:20251210T122737Z
LAST-MODIFIED:20260111T101402Z
UID:10001503-1768498200-1768510800@kfk-muenster.de
SUMMARY:KfK - Doppelkopfturnier
DESCRIPTION:Großen Spaß hatten viele\, die im Januar 2025 Kugeln gegen Karten getauscht und am ersten KfK-Doppelkopfturnier teilgenommen haben.\n\n\n\n\n\nOrganisator Klaus hat also wieder im „einsvier7“ (Maximilianstr. 41a) den Raum reserviert und freut sich auf alle\, die am 15. Januar 2026 ab 17:30 Uhr\nmitmischen wollen.\n\n\n\n\n\n\n\n\n\n\n\nDas Startgeld von 3\,- € wird teils als Preisgeld ausgeschüttet\, teils an „pro filia“ gespendet.\nWer mitspielen möchte\, meldet sich bitte per Mail bis bei Klaus Leimbach @ doppelkopf@kfk-muenster.de.\n\nAnmeldung Doppelkopf Turnier \nAngemeldet: \n\n\n\n\n\n\n\n\nBuffy\nJohannes\nSusanne\nKlaus L.\nRowitha St.\nRuth\nGesa\nMargot\nUte H\n\n\n\n\n\nAndrea H.\nManuela\nMarkus\nHubert E\nAnna\nFriedel\nGerd\nRüdiger\nKlaus S.
URL:https://kfk-muenster.de/event/kfk-doppelkopfturnier-2/
LOCATION:Gaststätte einsvier7\, Maximilianstraße 41A\, Münster\, NRW\, 48147\, Germany
CATEGORIES:Breitensport,KfK
ATTACH;FMTTYPE=image/png:https://kfk-muenster.de/wp-content/uploads/2024/12/Doppelkopf.png
ORGANIZER;CN="Klub f%C3%BCr Kugelsport":MAILTO:info@kfk-muenster.de
END:VEVENT
BEGIN:VEVENT
DTSTART;TZID=Europe/Berlin:20260109T180000
DTEND;TZID=Europe/Berlin:20260109T210000
DTSTAMP:20260422T151346
CREATED:20251115T105828Z
LAST-MODIFIED:20260102T094302Z
UID:10001496-1767981600-1767992400@kfk-muenster.de
SUMMARY:Winter-Boule 25/26
DESCRIPTION:3 Runden Supermêlée\n45 Minuten Zeitlimit plus einer Aufnahme\nAusschüttung nach Tageswertung\n\nDie maximale Teilnehmerzahl pro Spieltag liegt bei 18 Personen. \n\nAnmeldezeitraum: Samstag 0:00 Uhr bis Dienstag 12:00 Uhr vor dem Turnier. \nBitte bringt die 4 Euro Startgeld möglichst passend mit! \nLink zur Anmeldung
URL:https://kfk-muenster.de/event/winter-boule-25-26-2-2-3-3/
LOCATION:Boulezelt Gremmendorf\, Am Hohen Ufer 111\, Münster\, NRW\, 48167\, Germany
CATEGORIES:Breitensport,Winter-Boule
ATTACH;FMTTYPE=image/png:https://kfk-muenster.de/wp-content/uploads/2024/10/Winterboule-kfk.png.png
ORGANIZER;CN="Klub f%C3%BCr Kugelsport":MAILTO:info@kfk-muenster.de
END:VEVENT
BEGIN:VEVENT
DTSTART;TZID=Europe/Berlin:20260102T180000
DTEND;TZID=Europe/Berlin:20260102T210000
DTSTAMP:20260422T151346
CREATED:20251115T105538Z
LAST-MODIFIED:20251224T145237Z
UID:10001495-1767376800-1767387600@kfk-muenster.de
SUMMARY:Winter-Boule 25/26
DESCRIPTION:3 Runden Supermêlée\n45 Minuten Zeitlimit plus einer Aufnahme\nAusschüttung nachTageswertung\n\nDie maximale Teilnehmerzahl pro Spieltag liegt bei 18 Personen. \n\nAnmeldezeitraum: Samstag 0:00 Uhr bis Dienstag 12:00 Uhr vor dem Turnier. \nBitte bringt die 4 Euro Startgeld möglichst passend mit! \nLink zur Anmeldung
URL:https://kfk-muenster.de/event/winter-boule-25-26-2-2-3-2/
LOCATION:Boulezelt Gremmendorf\, Am Hohen Ufer 111\, Münster\, NRW\, 48167\, Germany
CATEGORIES:Breitensport,Winter-Boule
ATTACH;FMTTYPE=image/png:https://kfk-muenster.de/wp-content/uploads/2024/10/Winterboule-kfk.png.png
ORGANIZER;CN="Klub f%C3%BCr Kugelsport":MAILTO:info@kfk-muenster.de
END:VEVENT
BEGIN:VEVENT
DTSTART;TZID=Europe/Berlin:20251219T180000
DTEND;TZID=Europe/Berlin:20251219T210000
DTSTAMP:20260422T151346
CREATED:20251115T065601Z
LAST-MODIFIED:20251214T095728Z
UID:10001491-1766167200-1766178000@kfk-muenster.de
SUMMARY:Winter-Boule 25/26
DESCRIPTION:3 Runden Supermêlée\n45 Minuten Zeitlimit plus einer Aufnahme\nAusschüttung nachTageswertung\n\nDie maximale Teilnehmerzahl pro Spieltag liegt bei 18 Personen. \n\nAnmeldezeitraum: Samstag 0:00 Uhr bis Dienstag 12:00 Uhr vor dem Turnier. \nBitte bringt die 4 Euro Startgeld möglichst passend mit! \nLink zur Anmeldung
URL:https://kfk-muenster.de/event/winter-boule-25-26-2-2-3/
LOCATION:Boulezelt Gremmendorf\, Am Hohen Ufer 111\, Münster\, NRW\, 48167\, Germany
CATEGORIES:Breitensport,Winter-Boule
ATTACH;FMTTYPE=image/png:https://kfk-muenster.de/wp-content/uploads/2024/10/Winterboule-kfk.png.png
ORGANIZER;CN="Klub f%C3%BCr Kugelsport":MAILTO:info@kfk-muenster.de
END:VEVENT
BEGIN:VEVENT
DTSTART;TZID=Europe/Berlin:20251218T150000
DTEND;TZID=Europe/Berlin:20251218T170000
DTSTAMP:20260422T151346
CREATED:20251215T073410Z
LAST-MODIFIED:20260331T185700Z
UID:10001507-1766070000-1766077200@kfk-muenster.de
SUMMARY:Die neuen und die alten Hasen
DESCRIPTION:Wir schnuppern KfK-Luft! \nEin Übungsangebot zur Technik und Taktik des Boulesports für Vereinsangehörige und all diejenigen\, die Interesse haben\, unseren Klub für Kugelsport kennenzulernen. \nOb blutige Anfängerin oder altgedienter Profi – alle sind herzlich willkommen!
URL:https://kfk-muenster.de/event/die-neuen-und-die-alten-hasen/2025-12-18/
LOCATION:Boulodrome auf der Sentruper Höhe\, Theo-Breider-Weg\, Münster\, NRW\, 48149
CATEGORIES:Boulodrome Sentruper Höhe,Breitensport,KfK,KfK Training
ATTACH;FMTTYPE=image/png:https://kfk-muenster.de/wp-content/uploads/2024/06/Mittwochsmischung.png.png
ORGANIZER;CN="Klub f%C3%BCr Kugelsport":MAILTO:info@kfk-muenster.de
GEO:51.951680043677;7.5957984138246
X-APPLE-STRUCTURED-LOCATION;VALUE=URI;X-ADDRESS=Boulodrome auf der Sentruper Höhe Theo-Breider-Weg Münster NRW 48149;X-APPLE-RADIUS=500;X-TITLE=Theo-Breider-Weg:geo:7.5957984138246,51.951680043677
END:VEVENT
BEGIN:VEVENT
DTSTART;TZID=Europe/Berlin:20251212T180000
DTEND;TZID=Europe/Berlin:20251212T210000
DTSTAMP:20260422T151346
CREATED:20251115T070515Z
LAST-MODIFIED:20251214T095736Z
UID:10001493-1765562400-1765573200@kfk-muenster.de
SUMMARY:Winter-Boule 25/26
DESCRIPTION:3 Runden Supermêlée\n45 Minuten Zeitlimit plus einer Aufnahme\nAusschüttung nachTageswertung\n\nDie maximale Teilnehmerzahl pro Spieltag liegt bei 18 Personen. \n\nAnmeldezeitraum: Samstag 0:00 Uhr bis Dienstag 12:00 Uhr vor dem Turnier. \nBitte bringt die 4 Euro Startgeld möglichst passend mit! \nLink zur Anmeldung
URL:https://kfk-muenster.de/event/winter-boule-25-26-2-2/
LOCATION:Boulezelt Gremmendorf\, Am Hohen Ufer 111\, Münster\, NRW\, 48167\, Germany
CATEGORIES:Breitensport,Winter-Boule
ATTACH;FMTTYPE=image/png:https://kfk-muenster.de/wp-content/uploads/2024/10/Winterboule-kfk.png.png
ORGANIZER;CN="Klub f%C3%BCr Kugelsport":MAILTO:info@kfk-muenster.de
END:VEVENT
BEGIN:VEVENT
DTSTART;TZID=Europe/Berlin:20251207T130000
DTEND;TZID=Europe/Berlin:20251207T170000
DTSTAMP:20260422T151346
CREATED:20241228T192711Z
LAST-MODIFIED:20251214T095743Z
UID:10001232-1765112400-1765126800@kfk-muenster.de
SUMMARY:KfK Nikolausboule 2025
DESCRIPTION:
URL:https://kfk-muenster.de/event/kfk-nikolausboule-2025/
LOCATION:Boulodrome auf der Sentruper Höhe\, Theo-Breider-Weg\, Münster\, NRW\, 48149
CATEGORIES:Boulodrome Sentruper Höhe,Breitensport,KfK
ORGANIZER;CN="Klub f%C3%BCr Kugelsport":MAILTO:info@kfk-muenster.de
GEO:51.951680043677;7.5957984138246
X-APPLE-STRUCTURED-LOCATION;VALUE=URI;X-ADDRESS=Boulodrome auf der Sentruper Höhe Theo-Breider-Weg Münster NRW 48149;X-APPLE-RADIUS=500;X-TITLE=Theo-Breider-Weg:geo:7.5957984138246,51.951680043677
END:VEVENT
BEGIN:VEVENT
DTSTART;TZID=Europe/Berlin:20251205T180000
DTEND;TZID=Europe/Berlin:20251205T210000
DTSTAMP:20260422T151346
CREATED:20251114T190646Z
LAST-MODIFIED:20251214T095751Z
UID:10001489-1764957600-1764968400@kfk-muenster.de
SUMMARY:Winter-Boule 25/26
DESCRIPTION:3 Runden Supermêlée\n45 Minuten Zeitlimit plus einer Aufnahme\nAusschüttung nachTageswertung\n\nDie maximale Teilnehmerzahl pro Spieltag liegt bei 18 Personen. \n\nAnmeldezeitraum: Samstag 0:00 Uhr bis Dienstag 12:00 Uhr vor dem Turnier. \nBitte bringt die 4 Euro Startgeld möglichst passend mit! \nLink zur Anmeldung
URL:https://kfk-muenster.de/event/winter-boule-25-26-2/
LOCATION:Boulezelt Gremmendorf\, Am Hohen Ufer 111\, Münster\, NRW\, 48167\, Germany
CATEGORIES:Breitensport,Winter-Boule
ATTACH;FMTTYPE=image/png:https://kfk-muenster.de/wp-content/uploads/2024/10/Winterboule-kfk.png.png
ORGANIZER;CN="Klub f%C3%BCr Kugelsport":MAILTO:info@kfk-muenster.de
END:VEVENT
BEGIN:VEVENT
DTSTART;TZID=Europe/Berlin:20251121T180000
DTEND;TZID=Europe/Berlin:20251121T210000
DTSTAMP:20260422T151346
CREATED:20251111T184153Z
LAST-MODIFIED:20251214T095758Z
UID:10001488-1763748000-1763758800@kfk-muenster.de
SUMMARY:Winter-Boule 25/26
DESCRIPTION:3 Runden Supermêlée\n45 Minuten Zeitlimit plus einer Aufnahme\nAusschüttung nach Tageswertung\n\nDie maximale Teilnehmerzahl pro Spieltag liegt bei 18 Personen. \n\nAnmeldezeitraum: Samstag 0:00 Uhr bis Dienstag 12:00 Uhr vor dem Turnier. \nBitte bringt die 4 Euro Startgeld möglichst passend mit! \nLink zur Anmeldung
URL:https://kfk-muenster.de/event/winter-boule-25-26/
LOCATION:Boulezelt Gremmendorf\, Am Hohen Ufer 111\, Münster\, NRW\, 48167\, Germany
CATEGORIES:Breitensport,Winter-Boule
ATTACH;FMTTYPE=image/png:https://kfk-muenster.de/wp-content/uploads/2024/10/Winterboule-kfk.png.png
ORGANIZER;CN="Klub f%C3%BCr Kugelsport":MAILTO:info@kfk-muenster.de
END:VEVENT
BEGIN:VEVENT
DTSTART;TZID=Europe/Berlin:20251106T150000
DTEND;TZID=Europe/Berlin:20251106T170000
DTSTAMP:20260422T151346
CREATED:20251021T170716Z
LAST-MODIFIED:20251214T095817Z
UID:10001484-1762441200-1762448400@kfk-muenster.de
SUMMARY:Training "KfK Luft schnuppern"
DESCRIPTION:
URL:https://kfk-muenster.de/event/training-kfk-luft-schnuppern/
LOCATION:Boulodrome auf der Sentruper Höhe\, Theo-Breider-Weg\, Münster\, NRW\, 48149
CATEGORIES:Boulodrome Sentruper Höhe,Breitensport,KfK Training
ATTACH;FMTTYPE=image/jpeg:https://kfk-muenster.de/wp-content/uploads/2024/07/IMG_0114.jpg
ORGANIZER;CN="Klub f%C3%BCr Kugelsport":MAILTO:info@kfk-muenster.de
GEO:51.951680043677;7.5957984138246
X-APPLE-STRUCTURED-LOCATION;VALUE=URI;X-ADDRESS=Boulodrome auf der Sentruper Höhe Theo-Breider-Weg Münster NRW 48149;X-APPLE-RADIUS=500;X-TITLE=Theo-Breider-Weg:geo:7.5957984138246,51.951680043677
END:VEVENT
BEGIN:VEVENT
DTSTART;TZID=Europe/Berlin:20251019T130000
DTEND;TZID=Europe/Berlin:20251019T170000
DTSTAMP:20260422T151346
CREATED:20241228T192452Z
LAST-MODIFIED:20251014T191710Z
UID:10001231-1760878800-1760893200@kfk-muenster.de
SUMMARY:KfK Abboulen 2025
DESCRIPTION:
URL:https://kfk-muenster.de/event/kfk-abboulen/
LOCATION:Boulodrome auf der Sentruper Höhe\, Theo-Breider-Weg\, Münster\, NRW\, 48149
CATEGORIES:Boulodrome Sentruper Höhe,Breitensport,KfK
ORGANIZER;CN="Klub f%C3%BCr Kugelsport":MAILTO:info@kfk-muenster.de
GEO:51.951680043677;7.5957984138246
X-APPLE-STRUCTURED-LOCATION;VALUE=URI;X-ADDRESS=Boulodrome auf der Sentruper Höhe Theo-Breider-Weg Münster NRW 48149;X-APPLE-RADIUS=500;X-TITLE=Theo-Breider-Weg:geo:7.5957984138246,51.951680043677
END:VEVENT
BEGIN:VEVENT
DTSTART;TZID=Europe/Berlin:20251012T110000
DTEND;TZID=Europe/Berlin:20251012T140000
DTSTAMP:20260422T151346
CREATED:20251001T141145Z
LAST-MODIFIED:20251214T095854Z
UID:10001428-1760266800-1760277600@kfk-muenster.de
SUMMARY:Offene Bouleliga Münsterland 2025
DESCRIPTION:Anmeldung zum Spieltag (KfK intern) \n\n \nSchirmherrschaft des Stadtsportbunds Münster
URL:https://kfk-muenster.de/event/offene-bouleliga-muensterland-2025/
LOCATION:Bouleplatz Borussia Münster\, Grevingstraße 32\, Münster\, 48151\, Germany
CATEGORIES:Breitensport,KfK,Offene Bouleliga Münsterland
ATTACH;FMTTYPE=image/png:https://kfk-muenster.de/wp-content/uploads/2025/05/MSL_Liga_SSB.png
ORGANIZER;CN="Klub f%C3%BCr Kugelsport":MAILTO:info@kfk-muenster.de
END:VEVENT
BEGIN:VEVENT
DTSTART;TZID=Europe/Berlin:20251007T170000
DTEND;TZID=Europe/Berlin:20251007T190000
DTSTAMP:20260422T151346
CREATED:20250915T105523Z
LAST-MODIFIED:20251014T191617Z
UID:10001424-1759856400-1759863600@kfk-muenster.de
SUMMARY:Abschlusstraining - Sport im Park
DESCRIPTION:
URL:https://kfk-muenster.de/event/abschlusstraining-sport-im-park/
LOCATION:Boulodrome auf der Sentruper Höhe\, Theo-Breider-Weg\, Münster\, NRW\, 48149
CATEGORIES:Boulodrome Sentruper Höhe,Sport im Park
ORGANIZER;CN="Klub f%C3%BCr Kugelsport":MAILTO:info@kfk-muenster.de
GEO:51.951680043677;7.5957984138246
X-APPLE-STRUCTURED-LOCATION;VALUE=URI;X-ADDRESS=Boulodrome auf der Sentruper Höhe Theo-Breider-Weg Münster NRW 48149;X-APPLE-RADIUS=500;X-TITLE=Theo-Breider-Weg:geo:7.5957984138246,51.951680043677
END:VEVENT
BEGIN:VEVENT
DTSTART;TZID=Europe/Berlin:20251003T130000
DTEND;TZID=Europe/Berlin:20251003T170000
DTSTAMP:20260422T151346
CREATED:20241228T193033Z
LAST-MODIFIED:20251214T095907Z
UID:10001233-1759496400-1759510800@kfk-muenster.de
SUMMARY:KfK Vereinsmeisterschaft 2025
DESCRIPTION:Anmeldung zu Vereinsmeisterschaft \nTeilnehmerliste
URL:https://kfk-muenster.de/event/kfk-vereinsmeisterschaft-2025/
LOCATION:Boulodrome auf der Sentruper Höhe\, Theo-Breider-Weg\, Münster\, NRW\, 48149
CATEGORIES:Boulodrome Sentruper Höhe,Breitensport,KfK
ORGANIZER;CN="Klub f%C3%BCr Kugelsport":MAILTO:info@kfk-muenster.de
GEO:51.951680043677;7.5957984138246
X-APPLE-STRUCTURED-LOCATION;VALUE=URI;X-ADDRESS=Boulodrome auf der Sentruper Höhe Theo-Breider-Weg Münster NRW 48149;X-APPLE-RADIUS=500;X-TITLE=Theo-Breider-Weg:geo:7.5957984138246,51.951680043677
END:VEVENT
BEGIN:VEVENT
DTSTART;TZID=Europe/Berlin:20250921T110000
DTEND;TZID=Europe/Berlin:20250921T140000
DTSTAMP:20260422T151346
CREATED:20250529T130539Z
LAST-MODIFIED:20250921T060206Z
UID:10001402-1758452400-1758463200@kfk-muenster.de
SUMMARY:Offene Bouleliga Münsterland 2025
DESCRIPTION:Anmeldung zum Spieltag (KfK intern) \n\n \nSchirmherrschaft des Stadtsportbunds Münster
URL:https://kfk-muenster.de/event/offene-bouleliga-muensterland-2025-4/
LOCATION:Boulezelt Gremmendorf\, Am Hohen Ufer 111\, Münster\, NRW\, 48167\, Germany
CATEGORIES:Breitensport,Offene Bouleliga Münsterland
ATTACH;FMTTYPE=image/png:https://kfk-muenster.de/wp-content/uploads/2025/05/MSL_Liga_SSB.png
ORGANIZER;CN="Klub f%C3%BCr Kugelsport":MAILTO:info@kfk-muenster.de
END:VEVENT
END:VCALENDAR