BEGIN:VCALENDAR
VERSION:2.0
PRODID:-//KfK Münster - ECPv6.15.20//NONSGML v1.0//EN
CALSCALE:GREGORIAN
METHOD:PUBLISH
X-WR-CALNAME:KfK Münster
X-ORIGINAL-URL:https://kfk-muenster.de
X-WR-CALDESC:Veranstaltungen für KfK Münster
REFRESH-INTERVAL;VALUE=DURATION:PT1H
X-Robots-Tag:noindex
X-PUBLISHED-TTL:PT1H
BEGIN:VTIMEZONE
TZID:Europe/Berlin
BEGIN:DAYLIGHT
TZOFFSETFROM:+0100
TZOFFSETTO:+0200
TZNAME:CEST
DTSTART:20240331T010000
END:DAYLIGHT
BEGIN:STANDARD
TZOFFSETFROM:+0200
TZOFFSETTO:+0100
TZNAME:CET
DTSTART:20241027T010000
END:STANDARD
BEGIN:DAYLIGHT
TZOFFSETFROM:+0100
TZOFFSETTO:+0200
TZNAME:CEST
DTSTART:20250330T010000
END:DAYLIGHT
BEGIN:STANDARD
TZOFFSETFROM:+0200
TZOFFSETTO:+0100
TZNAME:CET
DTSTART:20251026T010000
END:STANDARD
BEGIN:DAYLIGHT
TZOFFSETFROM:+0100
TZOFFSETTO:+0200
TZNAME:CEST
DTSTART:20260329T010000
END:DAYLIGHT
BEGIN:STANDARD
TZOFFSETFROM:+0200
TZOFFSETTO:+0100
TZNAME:CET
DTSTART:20261025T010000
END:STANDARD
BEGIN:DAYLIGHT
TZOFFSETFROM:+0100
TZOFFSETTO:+0200
TZNAME:CEST
DTSTART:20270328T010000
END:DAYLIGHT
BEGIN:STANDARD
TZOFFSETFROM:+0200
TZOFFSETTO:+0100
TZNAME:CET
DTSTART:20271031T010000
END:STANDARD
END:VTIMEZONE
BEGIN:VEVENT
DTSTART;TZID=Europe/Berlin:20260222T093000
DTEND;TZID=Europe/Berlin:20260222T190000
DTSTAMP:20260421T154704
CREATED:20251011T101535Z
LAST-MODIFIED:20251011T101536Z
UID:10001455-1771752600-1771786800@kfk-muenster.de
SUMMARY:Hallenmeisterschaften Triplette LM
DESCRIPTION:
URL:https://kfk-muenster.de/event/hallenmeisterschaften-triplette-lm/
LOCATION:Boulehalle Düsseldorf\, Pariser Str. 45\, Düsseldorf\, NRW\, 40549\, Germany
CATEGORIES:BPV_NRW,Meisterschaften
ATTACH;FMTTYPE=image/png:https://kfk-muenster.de/wp-content/uploads/2025/04/BPV_NRW_LOGO_520x245.png
END:VEVENT
BEGIN:VEVENT
DTSTART;TZID=Europe/Berlin:20260215T093000
DTEND;TZID=Europe/Berlin:20260215T190000
DTSTAMP:20260421T154704
CREATED:20251011T101329Z
LAST-MODIFIED:20251011T101330Z
UID:10001454-1771147800-1771182000@kfk-muenster.de
SUMMARY:Hallenmeisterschaften Triplette QT
DESCRIPTION:
URL:https://kfk-muenster.de/event/hallenmeisterschaften-triplette-qt-2/
LOCATION:Boulehalle Schüttorf\, Salzberger Straße 80\, Schüttorf\, NRW\, 48465\, Germany
CATEGORIES:BPV_NRW,Meisterschaften
ATTACH;FMTTYPE=image/png:https://kfk-muenster.de/wp-content/uploads/2025/04/BPV_NRW_LOGO_520x245.png
END:VEVENT
BEGIN:VEVENT
DTSTART;TZID=Europe/Berlin:20260214T093000
DTEND;TZID=Europe/Berlin:20260214T190000
DTSTAMP:20260421T154704
CREATED:20251011T100906Z
LAST-MODIFIED:20251011T100906Z
UID:10001453-1771061400-1771095600@kfk-muenster.de
SUMMARY:Hallenmeisterschaften Triplette QT
DESCRIPTION:
URL:https://kfk-muenster.de/event/hallenmeisterschaften-triplette-qt/
LOCATION:Boulehalle Schüttorf\, Salzberger Straße 80\, Schüttorf\, NRW\, 48465\, Germany
CATEGORIES:BPV_NRW,Meisterschaften
ATTACH;FMTTYPE=image/png:https://kfk-muenster.de/wp-content/uploads/2025/04/BPV_NRW_LOGO_520x245.png
END:VEVENT
BEGIN:VEVENT
DTSTART;TZID=Europe/Berlin:20260201T093000
DTEND;TZID=Europe/Berlin:20260201T190000
DTSTAMP:20260421T154704
CREATED:20251011T095140Z
LAST-MODIFIED:20251011T095232Z
UID:10001450-1769938200-1769972400@kfk-muenster.de
SUMMARY:Hallenmeisterschaften Triplette Mixte LM
DESCRIPTION:
URL:https://kfk-muenster.de/event/hallenmeisterschaften-triplette-mixte-lm/
LOCATION:Boulehalle Düsseldorf\, Pariser Str. 45\, Düsseldorf\, NRW\, 40549\, Germany
CATEGORIES:BPV_NRW,Meisterschaften
ATTACH;FMTTYPE=image/png:https://kfk-muenster.de/wp-content/uploads/2025/04/BPV_NRW_LOGO_520x245.png
END:VEVENT
BEGIN:VEVENT
DTSTART;TZID=Europe/Berlin:20260125T093000
DTEND;TZID=Europe/Berlin:20260125T190000
DTSTAMP:20260421T154704
CREATED:20251011T094917Z
LAST-MODIFIED:20251011T094918Z
UID:10001449-1769333400-1769367600@kfk-muenster.de
SUMMARY:Hallenmeisterschaften Triplette Mixte QT
DESCRIPTION:
URL:https://kfk-muenster.de/event/hallenmeisterschaften-triplette-mixte-qt-2/
LOCATION:Boulehalle Schüttorf\, Salzberger Straße 80\, Schüttorf\, NRW\, 48465\, Germany
ATTACH;FMTTYPE=image/png:https://kfk-muenster.de/wp-content/uploads/2025/04/BPV_NRW_LOGO_520x245.png
END:VEVENT
BEGIN:VEVENT
DTSTART;TZID=Europe/Berlin:20260124T093000
DTEND;TZID=Europe/Berlin:20260124T190000
DTSTAMP:20260421T154704
CREATED:20251011T094614Z
LAST-MODIFIED:20251011T094614Z
UID:10001448-1769247000-1769281200@kfk-muenster.de
SUMMARY:Hallenmeisterschaften Triplette Mixte QT
DESCRIPTION:
URL:https://kfk-muenster.de/event/hallenmeisterschaften-triplette-mixte-qt/
LOCATION:Boulehalle Essen\, Ruhrtalstraße 298\, Essen\, NRW\, 45219\, Germany
CATEGORIES:BPV_NRW,Meisterschaften
ATTACH;FMTTYPE=image/png:https://kfk-muenster.de/wp-content/uploads/2025/04/BPV_NRW_LOGO_520x245.png
END:VEVENT
BEGIN:VEVENT
DTSTART;TZID=Europe/Berlin:20251207T093000
DTEND;TZID=Europe/Berlin:20251207T190000
DTSTAMP:20260421T154704
CREATED:20251011T092851Z
LAST-MODIFIED:20251011T092852Z
UID:10001446-1765099800-1765134000@kfk-muenster.de
SUMMARY:Hallenmeisterschaften Doublette Mixte LM
DESCRIPTION:
URL:https://kfk-muenster.de/event/hallenmeisterschaften-doublette-mixte-lm/
LOCATION:Boulehalle Düsseldorf\, Pariser Str. 45\, Düsseldorf\, NRW\, 40549\, Germany
CATEGORIES:Meisterschaften
ATTACH;FMTTYPE=image/png:https://kfk-muenster.de/wp-content/uploads/2025/04/BPV_NRW_LOGO_520x245.png
END:VEVENT
BEGIN:VEVENT
DTSTART;TZID=Europe/Berlin:20251130T093000
DTEND;TZID=Europe/Berlin:20251130T190000
DTSTAMP:20260421T154704
CREATED:20251011T092547Z
LAST-MODIFIED:20251011T092643Z
UID:10001445-1764495000-1764529200@kfk-muenster.de
SUMMARY:Hallenmeisterschaften Doublette Mixte QT
DESCRIPTION:
URL:https://kfk-muenster.de/event/hallenmeisterschaften-doublette-mixte-qt-2/
LOCATION:Boulehalle Düsseldorf\, Pariser Str. 45\, Düsseldorf\, NRW\, 40549\, Germany
CATEGORIES:BPV_NRW,Meisterschaften
ATTACH;FMTTYPE=image/png:https://kfk-muenster.de/wp-content/uploads/2025/04/BPV_NRW_LOGO_520x245.png
END:VEVENT
BEGIN:VEVENT
DTSTART;TZID=Europe/Berlin:20251109T093000
DTEND;TZID=Europe/Berlin:20251109T190000
DTSTAMP:20260421T154704
CREATED:20251009T193401Z
LAST-MODIFIED:20251011T070258Z
UID:10001439-1762680600-1762714800@kfk-muenster.de
SUMMARY:Hallenmeisterschaft Doublette LM
DESCRIPTION:
URL:https://kfk-muenster.de/event/hallenmeisterschaft-doublette-lm/
LOCATION:Boulehalle Düsseldorf\, Pariser Str. 45\, Düsseldorf\, NRW\, 40549\, Germany
CATEGORIES:BPV_NRW,Meisterschaften
ATTACH;FMTTYPE=image/png:https://kfk-muenster.de/wp-content/uploads/2025/04/BPV_NRW_LOGO_520x245.png
END:VEVENT
BEGIN:VEVENT
DTSTART;TZID=Europe/Berlin:20251102T093000
DTEND;TZID=Europe/Berlin:20251102T190000
DTSTAMP:20260421T154704
CREATED:20251011T082125Z
LAST-MODIFIED:20251011T082125Z
UID:10001442-1762075800-1762110000@kfk-muenster.de
SUMMARY:Hallenmeisterschaft Doublette QT
DESCRIPTION:
URL:https://kfk-muenster.de/event/hallenmeisterschaft-doublette-qt-4/
LOCATION:Boulehalle Schüttorf\, Salzberger Straße 80\, Schüttorf\, NRW\, 48465\, Germany
CATEGORIES:BPV_NRW,Meisterschaften
ATTACH;FMTTYPE=image/png:https://kfk-muenster.de/wp-content/uploads/2025/04/BPV_NRW_LOGO_520x245.png
END:VEVENT
END:VCALENDAR